BEGIN:VCALENDAR
VERSION:2.0
PRODID:-//Healthwatch Northumberland - ECPv6.15.20//NONSGML v1.0//EN
CALSCALE:GREGORIAN
METHOD:PUBLISH
X-WR-CALNAME:Healthwatch Northumberland
X-ORIGINAL-URL:https://healthwatchnorthumberland.co.uk
X-WR-CALDESC:Events for Healthwatch Northumberland
REFRESH-INTERVAL;VALUE=DURATION:PT1H
X-Robots-Tag:noindex
X-PUBLISHED-TTL:PT1H
BEGIN:VTIMEZONE
TZID:UTC
BEGIN:STANDARD
TZOFFSETFROM:+0000
TZOFFSETTO:+0000
TZNAME:UTC
DTSTART:20250101T000000
END:STANDARD
END:VTIMEZONE
BEGIN:VEVENT
DTSTART;TZID=UTC:20260420T100000
DTEND;TZID=UTC:20260420T120000
DTSTAMP:20260420T012701
CREATED:20260320T123041Z
LAST-MODIFIED:20260320T123041Z
UID:28306-1776679200-1776686400@healthwatchnorthumberland.co.uk
SUMMARY:Ponteland Stepping into Spring event
DESCRIPTION:Ponteland Stepping into Spring event\nCome along and speak to us at the Stepping into Spring event at Merton Hall\, Ponteland on Monday 20 April\, 10am to 12pm. \nFind out what support is available in the local area to stay safe and well\, and enjoy free refreshments. You can also talk to us about your experiences of health and care services or pick up some information about local services and support.
URL:https://healthwatchnorthumberland.co.uk/event/ponteland-stepping-into-spring-event-april-2026/
LOCATION:Merton Hall\, Ponteland\, NE20 9PX
ATTACH;FMTTYPE=image/jpeg:https://healthwatchnorthumberland.co.uk/wp-content/uploads/2019/03/Step-Spring.jpg
END:VEVENT
END:VCALENDAR