BEGIN:VCALENDAR
VERSION:2.0
PRODID:-//Healthwatch Northumberland - ECPv6.15.20//NONSGML v1.0//EN
CALSCALE:GREGORIAN
METHOD:PUBLISH
X-WR-CALNAME:Healthwatch Northumberland
X-ORIGINAL-URL:https://healthwatchnorthumberland.co.uk
X-WR-CALDESC:Events for Healthwatch Northumberland
REFRESH-INTERVAL;VALUE=DURATION:PT1H
X-Robots-Tag:noindex
X-PUBLISHED-TTL:PT1H
BEGIN:VTIMEZONE
TZID:UTC
BEGIN:STANDARD
TZOFFSETFROM:+0000
TZOFFSETTO:+0000
TZNAME:UTC
DTSTART:20250101T000000
END:STANDARD
END:VTIMEZONE
BEGIN:VEVENT
DTSTART;TZID=UTC:20260422T100000
DTEND;TZID=UTC:20260422T150000
DTSTAMP:20260422T012004
CREATED:20260413T143223Z
LAST-MODIFIED:20260413T143223Z
UID:28479-1776852000-1776870000@healthwatchnorthumberland.co.uk
SUMMARY:Autism in Mind drop-in session
DESCRIPTION:Are you an adult with an autism diagnosis\, or are you supporting someone who has been diagnosed?  Come along to this Autism in Mind drop-in day at the Adapt (NE) Community Hub and enjoy a cuppa and chat to Howard from Autism in Mind. Howard can let you know about services and support available locally. \nPlease note this event is for autistic adults without a learning disability. \nVisit the Autism in Mind website
URL:https://healthwatchnorthumberland.co.uk/event/autism-in-mind-drop-in-session/
LOCATION:Adapt (NE) Community Hub\, Burn Lane\, Hexham\, Northumberland\, NE46 3HN\, United Kingdom
ATTACH;FMTTYPE=image/png:https://healthwatchnorthumberland.co.uk/wp-content/uploads/2026/04/Autism-in-Mind-drop-in-Adapt-NE-Community-Hub.png
ORGANIZER;CN="Adapt (NE)":MAILTO:generaloffice@adapt-tynedale.org.uk
END:VEVENT
BEGIN:VEVENT
DTSTART;TZID=UTC:20260422T103000
DTEND;TZID=UTC:20260422T123000
DTSTAMP:20260422T012004
CREATED:20260309T114722Z
LAST-MODIFIED:20260309T114722Z
UID:28239-1776853800-1776861000@healthwatchnorthumberland.co.uk
SUMMARY:Drop-in session Morpeth
DESCRIPTION:Healthwatch Northumberland drop-in session Morpeth April 2026\nCome and see us at Morpeth Leisure Centre on the fourth Wednesday of the month\, 10.30am – 12.30pm. \nCall in to our monthly Here to Hear drop-in sessions and speak with one of our friendly team\, in confidence\, about your experiences of health and care services. You can also find out more about local services with our free Information and Signposting Service and pick up one of our fantastic giveaways! \nJust call in or if you’d prefer to make a specific appointment for one of the sessions\, please get in touch. \nWe hold Here to Hear sessions at venues around the county. Full details of all of our drop-in sessions
URL:https://healthwatchnorthumberland.co.uk/event/drop-in-session-morpeth-april-26/
LOCATION:Morpeth Leisure Centre\, Gas House Lane\, Morpeth\, NE61 1SR
ATTACH;FMTTYPE=image/png:https://healthwatchnorthumberland.co.uk/wp-content/uploads/2026/03/April-2026-web.png
END:VEVENT
END:VCALENDAR