BEGIN:VCALENDAR
VERSION:2.0
PRODID:-//Healthwatch Northumberland - ECPv6.15.20//NONSGML v1.0//EN
CALSCALE:GREGORIAN
METHOD:PUBLISH
X-WR-CALNAME:Healthwatch Northumberland
X-ORIGINAL-URL:https://healthwatchnorthumberland.co.uk
X-WR-CALDESC:Events for Healthwatch Northumberland
REFRESH-INTERVAL;VALUE=DURATION:PT1H
X-Robots-Tag:noindex
X-PUBLISHED-TTL:PT1H
BEGIN:VTIMEZONE
TZID:UTC
BEGIN:STANDARD
TZOFFSETFROM:+0000
TZOFFSETTO:+0000
TZNAME:UTC
DTSTART:20240101T000000
END:STANDARD
END:VTIMEZONE
BEGIN:VEVENT
DTSTART;TZID=UTC:20250701T100000
DTEND;TZID=UTC:20250701T120000
DTSTAMP:20260419T205203
CREATED:20250627T084531Z
LAST-MODIFIED:20250627T084531Z
UID:25944-1751364000-1751371200@healthwatchnorthumberland.co.uk
SUMMARY:Berwick Cancer Cars coffee morning
DESCRIPTION:Two of our volunteers will be at Berwick Cancer Cars’ regular coffee morning at 8 Tweed Street\, Berwick on Tuesday 1 July\, 10am-12pm. Pop along and chat to them about health and care services.
URL:https://healthwatchnorthumberland.co.uk/event/berwick-cancer-cars-coffee-morning/
LOCATION:Berwick Cancer Cars\, 8 Tweed Street\, Berwick\, TD15 1NG
ATTACH;FMTTYPE=image/png:https://healthwatchnorthumberland.co.uk/wp-content/uploads/2025/05/Berwick-Cancer-Cars-logo.png
END:VEVENT
END:VCALENDAR