BEGIN:VCALENDAR
VERSION:2.0
PRODID:-//Healthwatch Northumberland - ECPv6.15.20//NONSGML v1.0//EN
CALSCALE:GREGORIAN
METHOD:PUBLISH
X-WR-CALNAME:Healthwatch Northumberland
X-ORIGINAL-URL:https://healthwatchnorthumberland.co.uk
X-WR-CALDESC:Events for Healthwatch Northumberland
REFRESH-INTERVAL;VALUE=DURATION:PT1H
X-Robots-Tag:noindex
X-PUBLISHED-TTL:PT1H
BEGIN:VTIMEZONE
TZID:UTC
BEGIN:STANDARD
TZOFFSETFROM:+0000
TZOFFSETTO:+0000
TZNAME:UTC
DTSTART:20240101T000000
END:STANDARD
END:VTIMEZONE
BEGIN:VEVENT
DTSTART;TZID=UTC:20250723T100000
DTEND;TZID=UTC:20250723T120000
DTSTAMP:20260422T002544
CREATED:20250623T144657Z
LAST-MODIFIED:20250625T095656Z
UID:25902-1753264800-1753272000@healthwatchnorthumberland.co.uk
SUMMARY:Blyth Wellness Wednesday
DESCRIPTION:Call in and speak to us at this free Wellness Wednesday event at Blyth Community Hub on Wednesday 23 July\, 10am-12pm. \nThere will be lots of groups and organisations there on the day offering information and support\, including Marine Medical Group\, Northumberland Recovery College and Age UK Northumberland.
URL:https://healthwatchnorthumberland.co.uk/event/blyth-wellness-wednesday/
LOCATION:Blyth Community Hub\, 14 Market Place\, Blyth
ATTACH;FMTTYPE=image/png:https://healthwatchnorthumberland.co.uk/wp-content/uploads/2025/06/Wellbeing-Wed-web-event.png
END:VEVENT
END:VCALENDAR