BEGIN:VCALENDAR
VERSION:2.0
PRODID:-//Healthwatch Northumberland - ECPv6.15.20//NONSGML v1.0//EN
CALSCALE:GREGORIAN
METHOD:PUBLISH
X-WR-CALNAME:Healthwatch Northumberland
X-ORIGINAL-URL:https://healthwatchnorthumberland.co.uk
X-WR-CALDESC:Events for Healthwatch Northumberland
REFRESH-INTERVAL;VALUE=DURATION:PT1H
X-Robots-Tag:noindex
X-PUBLISHED-TTL:PT1H
BEGIN:VTIMEZONE
TZID:UTC
BEGIN:STANDARD
TZOFFSETFROM:+0000
TZOFFSETTO:+0000
TZNAME:UTC
DTSTART:20240101T000000
END:STANDARD
END:VTIMEZONE
BEGIN:VEVENT
DTSTART;TZID=UTC:20251008T100000
DTEND;TZID=UTC:20251008T120000
DTSTAMP:20260421T204333
CREATED:20250922T151402Z
LAST-MODIFIED:20250922T151651Z
UID:26876-1759917600-1759924800@healthwatchnorthumberland.co.uk
SUMMARY:Blyth Young at Heart Event
DESCRIPTION:Come along and speak to us at this free event at Blyth Community Hub on Wednesday 8 October\, 10am to 12pm. There will be a variety of local organisations offering information and support with a specific focus on people aged over 50.
URL:https://healthwatchnorthumberland.co.uk/event/blyth-young-at-heart-event/
LOCATION:Blyth Community Hub\, 14 Market Place\, Blyth
ATTACH;FMTTYPE=image/png:https://healthwatchnorthumberland.co.uk/wp-content/uploads/2025/08/Information-event.png
END:VEVENT
END:VCALENDAR