BEGIN:VCALENDAR
VERSION:2.0
PRODID:-//Healthwatch Northumberland - ECPv6.15.20//NONSGML v1.0//EN
CALSCALE:GREGORIAN
METHOD:PUBLISH
X-WR-CALNAME:Healthwatch Northumberland
X-ORIGINAL-URL:https://healthwatchnorthumberland.co.uk
X-WR-CALDESC:Events for Healthwatch Northumberland
REFRESH-INTERVAL;VALUE=DURATION:PT1H
X-Robots-Tag:noindex
X-PUBLISHED-TTL:PT1H
BEGIN:VTIMEZONE
TZID:UTC
BEGIN:STANDARD
TZOFFSETFROM:+0000
TZOFFSETTO:+0000
TZNAME:UTC
DTSTART:20250101T000000
END:STANDARD
END:VTIMEZONE
BEGIN:VEVENT
DTSTART;TZID=UTC:20260121T100000
DTEND;TZID=UTC:20260121T120000
DTSTAMP:20260421T181045
CREATED:20251208T120320Z
LAST-MODIFIED:20251208T120416Z
UID:27525-1768989600-1768996800@healthwatchnorthumberland.co.uk
SUMMARY:Drop-in session Blyth
DESCRIPTION:Healthwatch Northumberland drop-in session Blyth January 2026\nCome along and see us at Blyth Community Hub at 14 Market Street\, Blyth\, NE24 1BQ on Wednesday 21 January\, 10am to 12pm. \nCall in to this Here to Hear drop-in session and speak with one of our friendly team\, in confidence\, about your experiences of health and care services. You can also find out more about local services with our free Information and Signposting Service and pick up one of our fantastic giveaways! \nJust call in or if you’d prefer to make a specific appointment for one of the sessions\, please get in touch. \nWe hold Here to Hear sessions around the county. Full details of all of our drop-in sessions
URL:https://healthwatchnorthumberland.co.uk/event/drop-in-session-blyth-jan-26/
LOCATION:Blyth Community Hub\, 14 Market Place\, Blyth
ATTACH;FMTTYPE=image/png:https://healthwatchnorthumberland.co.uk/wp-content/uploads/2025/12/January-2026-web.png
END:VEVENT
END:VCALENDAR