BEGIN:VCALENDAR
VERSION:2.0
PRODID:-//Healthwatch Northumberland - ECPv6.15.20//NONSGML v1.0//EN
CALSCALE:GREGORIAN
METHOD:PUBLISH
X-ORIGINAL-URL:https://healthwatchnorthumberland.co.uk
X-WR-CALDESC:Events for Healthwatch Northumberland
REFRESH-INTERVAL;VALUE=DURATION:PT1H
X-Robots-Tag:noindex
X-PUBLISHED-TTL:PT1H
BEGIN:VTIMEZONE
TZID:UTC
BEGIN:STANDARD
TZOFFSETFROM:+0000
TZOFFSETTO:+0000
TZNAME:UTC
DTSTART:20240101T000000
END:STANDARD
END:VTIMEZONE
BEGIN:VEVENT
DTSTART;TZID=UTC:20251010T130000
DTEND;TZID=UTC:20251010T143000
DTSTAMP:20260419T190006
CREATED:20250915T140947Z
LAST-MODIFIED:20250917T133428Z
UID:26783-1760101200-1760106600@healthwatchnorthumberland.co.uk
SUMMARY:Online event - Prioritising mental health in the workplace
DESCRIPTION:Join us for this free online event on World Mental Health Day to talk about mental health with a focus on wellbeing in the workplace. We will hear from Tyneside and Northumberland MIND\, NHS Northumberland Talking Therapies and Northumberland Recovery College about common sources of stress in the workplace and tips and techniques to promote better mental health. \nWe will also have the chance to take part in a guided imagery exercise to help manage stress and anxiety. There will be time to ask questions. \nThe theme of this year’s mental health day is access to services. We will also share some details of mental health services\, information and resources where people can get support. \nPlease note this session is not intended to give individual clinical advice. To improve comfort and confidentiality all attendees will have their cameras off and microphones muted\, and active participation is not required. \nRegister for free \nSign up to our newsletter to hear about future events.
URL:https://healthwatchnorthumberland.co.uk/event/online-event-prioritising-mental-health-in-the-workplace/
ATTACH;FMTTYPE=image/png:https://healthwatchnorthumberland.co.uk/wp-content/uploads/2025/09/Mental-health-Oct-25-web-1.png
END:VEVENT
END:VCALENDAR