BEGIN:VCALENDAR
VERSION:2.0
PRODID:-//Healthwatch Northumberland - ECPv6.15.20//NONSGML v1.0//EN
CALSCALE:GREGORIAN
METHOD:PUBLISH
X-WR-CALNAME:Healthwatch Northumberland
X-ORIGINAL-URL:https://healthwatchnorthumberland.co.uk
X-WR-CALDESC:Events for Healthwatch Northumberland
REFRESH-INTERVAL;VALUE=DURATION:PT1H
X-Robots-Tag:noindex
X-PUBLISHED-TTL:PT1H
BEGIN:VTIMEZONE
TZID:UTC
BEGIN:STANDARD
TZOFFSETFROM:+0000
TZOFFSETTO:+0000
TZNAME:UTC
DTSTART:20250101T000000
END:STANDARD
END:VTIMEZONE
BEGIN:VEVENT
DTSTART;TZID=UTC:20260508T130000
DTEND;TZID=UTC:20260508T140000
DTSTAMP:20260421T110416
CREATED:20260415T095402Z
LAST-MODIFIED:20260415T100347Z
UID:28518-1778245200-1778248800@healthwatchnorthumberland.co.uk
SUMMARY:Online event - Live Well with Cancer
DESCRIPTION:Join us for a free online talk on Friday 8 May at 1pm with Ben Elliott from Live Well with Cancer\, a North East charity helping people affected by a cancer diagnosis to improve their health and wellbeing. \nWe will hear about the support on offer from the charity to those living in Northumberland alongside an overview of their campaign\, Live Well with Healthy Habits\, helping anyone impacted by cancer or a chronic condition to improve their wellbeing. \nThe campaign promotes the nine habits of a healthy lifestyle including mental health\, physical fitness\, emotional wellbeing and relationships with others\, yourself and your diet. \nSign up today to find out how you can transform your wellbeing or help others to live well with healthy habits and find out more about local support available. \nThis talk is suitable for both professionals and the public and there will be an opportunity to ask questions after the talk. \nRegister for free \nSign up to our newsletter to hear about future events.
URL:https://healthwatchnorthumberland.co.uk/event/online-event-live-well-with-cancer/
ATTACH;FMTTYPE=image/png:https://healthwatchnorthumberland.co.uk/wp-content/uploads/2026/04/Live-well-with-cancer-web-resized.png
END:VEVENT
END:VCALENDAR