BEGIN:VCALENDAR
VERSION:2.0
PRODID:-//Healthwatch Northumberland - ECPv6.15.20//NONSGML v1.0//EN
CALSCALE:GREGORIAN
METHOD:PUBLISH
X-ORIGINAL-URL:https://healthwatchnorthumberland.co.uk
X-WR-CALDESC:Events for Healthwatch Northumberland
REFRESH-INTERVAL;VALUE=DURATION:PT1H
X-Robots-Tag:noindex
X-PUBLISHED-TTL:PT1H
BEGIN:VTIMEZONE
TZID:UTC
BEGIN:STANDARD
TZOFFSETFROM:+0000
TZOFFSETTO:+0000
TZNAME:UTC
DTSTART:20230101T000000
END:STANDARD
END:VTIMEZONE
BEGIN:VEVENT
DTSTART;TZID=UTC:20240308T130000
DTEND;TZID=UTC:20240308T140000
DTSTAMP:20260423T143430
CREATED:20240216T152136Z
LAST-MODIFIED:20240216T153230Z
UID:21167-1709902800-1709906400@healthwatchnorthumberland.co.uk
SUMMARY:Online event - Growing Healthy Northumberland 0-19 Service
DESCRIPTION:Join us on Friday 8 March\, 1pm-2pm\, to hear from Rachel and Sam from the Growing Healthy Northumberland 0-19 Service. They will talk about what services are provided by the 0-19 Service for children\, young people\, and families in Northumberland\, including the Health Visiting Service\, 5-19 Service and their digital offer. \nSuitable for mums\, dads\, grandparents\, carers and professionals alike\, Zoom in to find out more about these services for the children in your life. \n and we will send you a link to join closer to the event. \nSign up to our newsletter to hear about future events.
URL:https://healthwatchnorthumberland.co.uk/event/online-event-growing-healthy-northumberland-0-19-service/
ATTACH;FMTTYPE=image/png:https://healthwatchnorthumberland.co.uk/wp-content/uploads/2024/02/Growing-Healthy-web-image.png
END:VEVENT
END:VCALENDAR