BEGIN:VCALENDAR
VERSION:2.0
PRODID:-//Healthwatch Northumberland - ECPv6.15.20//NONSGML v1.0//EN
CALSCALE:GREGORIAN
METHOD:PUBLISH
X-WR-CALNAME:Healthwatch Northumberland
X-ORIGINAL-URL:https://healthwatchnorthumberland.co.uk
X-WR-CALDESC:Events for Healthwatch Northumberland
REFRESH-INTERVAL;VALUE=DURATION:PT1H
X-Robots-Tag:noindex
X-PUBLISHED-TTL:PT1H
BEGIN:VTIMEZONE
TZID:UTC
BEGIN:STANDARD
TZOFFSETFROM:+0000
TZOFFSETTO:+0000
TZNAME:UTC
DTSTART:20230101T000000
END:STANDARD
END:VTIMEZONE
BEGIN:VEVENT
DTSTART;TZID=UTC:20241213T130000
DTEND;TZID=UTC:20241213T140000
DTSTAMP:20260421T212901
CREATED:20240920T122153Z
LAST-MODIFIED:20241009T141108Z
UID:23050-1734094800-1734098400@healthwatchnorthumberland.co.uk
SUMMARY:Online event - An introduction to STAMMA
DESCRIPTION:Join us on Friday 13 December\, 1pm-2pm\, to hear from STAMMA\, the national stammering charity\, who will chat to us about how we can make healthcare environments more accessible\, give top tips on talking with someone who stammers\, and share information and support for adults and children who stammer. \nStammering and healthcare \nYou might be surprised to learn that over 1% of adults stammer\, and around 8% of children stammer for at least a while. Yet healthcare can often be a difficult environment for people who stammer. Talked over\, hung up on\, being misdiagnosed with anxiety\, or refused medication because a healthcare professional mistakenly thinks the person is lying or unsure when they stammer on their own name. \nBring your questions and your stories\, or just come along to listen. Suitable for the public and professionals. Everybody welcome! \nRegister now and we will send you a link to join closer to the event. \nSign up to our newsletter to hear about future events.
URL:https://healthwatchnorthumberland.co.uk/event/online-event-an-introduction-to-stamma/
ATTACH;FMTTYPE=image/png:https://healthwatchnorthumberland.co.uk/wp-content/uploads/2024/09/STAMMA-web-event.png
END:VEVENT
END:VCALENDAR