BEGIN:VCALENDAR
VERSION:2.0
PRODID:-//Healthwatch Northumberland - ECPv6.15.20//NONSGML v1.0//EN
CALSCALE:GREGORIAN
METHOD:PUBLISH
X-WR-CALNAME:Healthwatch Northumberland
X-ORIGINAL-URL:https://healthwatchnorthumberland.co.uk
X-WR-CALDESC:Events for Healthwatch Northumberland
REFRESH-INTERVAL;VALUE=DURATION:PT1H
X-Robots-Tag:noindex
X-PUBLISHED-TTL:PT1H
BEGIN:VTIMEZONE
TZID:UTC
BEGIN:STANDARD
TZOFFSETFROM:+0000
TZOFFSETTO:+0000
TZNAME:UTC
DTSTART:20230101T000000
END:STANDARD
END:VTIMEZONE
BEGIN:VEVENT
DTSTART;TZID=UTC:20240619T100000
DTEND;TZID=UTC:20240619T140000
DTSTAMP:20260422T201831
CREATED:20240515T134756Z
LAST-MODIFIED:20240617T105604Z
UID:21843-1718791200-1718805600@healthwatchnorthumberland.co.uk
SUMMARY:CVA Blyth Valley Wellness Event
DESCRIPTION:Find us at the CVA Blyth Valley Wellness Event on Wednesday 19 June at Blyth Community Hub\, Blyth Market Place. We will be joining a range of local support organisations and there will be an opportunity to try Tai Chi\, Boxing Well\, and seated exercise in the afternoon. The event takes place from 10am until 2pm\, and we will be there with all of our information and giveaways from 10am until midday. \nEmail: info@cvabv.org.uk for more information.
URL:https://healthwatchnorthumberland.co.uk/event/cva-blyth-valley-wellness-event/
LOCATION:Blyth Community Hub\, 14 Market Place\, Blyth
ATTACH;FMTTYPE=image/png:https://healthwatchnorthumberland.co.uk/wp-content/uploads/2024/05/Blyth-wellness-event-web.png
END:VEVENT
END:VCALENDAR